BEGIN:VCALENDAR
VERSION:2.0
PRODID:SchoolNow
CALSCALE:GREGORIAN
BEGIN:VEVENT
UID:775c5a84-165d-11f1-ba9f-0a58a9feac02
DTSTAMP:20260419T163511Z
SUMMARY:McCracken Girls Varsity Soccer at Culver
LOCATION:Clarence E Culver School\, 6901 W Oakton St\, Niles\, IL 60714\, U
 SA
URL;VALUE=URI:https://www.sd735.org/calendar/8884739/mccracken-girls-varsit
 y-soccer-at-culver
DTSTART:20260505T210000Z
DTEND:20260505T220000Z
END:VEVENT
END:VCALENDAR
