BEGIN:VCALENDAR
VERSION:2.0
PRODID:SchoolNow
CALSCALE:GREGORIAN
BEGIN:VEVENT
UID:775c5926-165d-11f1-87d2-0a58a9feac02
DTSTAMP:20260419T163511Z
SUMMARY:McCracken Boys 6th Grade Volleyball at Park View vs. Fairview\, Old
  Orchard\, Park View
LOCATION:Park View Elementary School\, 6200 Lake St\, Morton Grove\, IL 600
 53\, USA
URL;VALUE=URI:https://www.sd735.org/calendar/8884738/mccracken-boys-6th-gra
 de-volleyball-at-park-view-vs-fairview-old-orchard-park-view
DTSTART:20260429T211500Z
DTEND:20260429T221500Z
END:VEVENT
END:VCALENDAR
