BEGIN:VCALENDAR
VERSION:2.0
PRODID:SchoolNow
CALSCALE:GREGORIAN
BEGIN:VEVENT
UID:775c5700-165d-11f1-ac4a-0a58a9feac02
DTSTAMP:20260419T163511Z
SUMMARY:McCracken Girls Varsity Soccer vs. Park View
LOCATION:Oliver McCracken Middle School\, 8000 E Prairie Rd\, Skokie\, IL 6
 0076\, USA
URL;VALUE=URI:https://www.sd735.org/calendar/8884737/mccracken-girls-varsit
 y-soccer-vs-park-view
DTSTART:20260427T210000Z
DTEND:20260427T220000Z
END:VEVENT
END:VCALENDAR
