BEGIN:VCALENDAR
VERSION:2.0
PRODID:SchoolNow
CALSCALE:GREGORIAN
BEGIN:VEVENT
UID:775c5566-165d-11f1-ba11-0a58a9feac02
DTSTAMP:20260419T163511Z
SUMMARY:McCracken Boys Varsity Volleyball at Golf
LOCATION:Golf Elementary School District 67\, Niles Township\, IL\, USA
URL;VALUE=URI:https://www.sd735.org/calendar/8884736/mccracken-boys-varsity
 -volleyball-at-golf
DTSTART:20260413T210000Z
DTEND:20260413T220000Z
END:VEVENT
END:VCALENDAR
