BEGIN:VCALENDAR
VERSION:2.0
PRODID:SchoolNow
CALSCALE:GREGORIAN
BEGIN:VEVENT
UID:775c539a-165d-11f1-88f6-0a58a9feac02
DTSTAMP:20260419T163511Z
SUMMARY:McCracken Boys JV Volleyball vs. Lincoln Hall
LOCATION:Oliver McCracken Middle School\, 8000 E Prairie Rd\, Skokie\, IL 6
 0076\, USA
URL;VALUE=URI:https://www.sd735.org/calendar/8884735/mccracken-boys-jv-voll
 eyball-vs-lincoln-hall
DTSTART:20260420T210000Z
DTEND:20260420T220000Z
END:VEVENT
END:VCALENDAR
