BEGIN:VCALENDAR
VERSION:2.0
PRODID:SchoolNow
CALSCALE:GREGORIAN
BEGIN:VEVENT
UID:7753e8ea-165d-11f1-808f-0a58a9feac02
DTSTAMP:20260419T163511Z
SUMMARY:McCracken Girls Varsity Soccer at Old Orchard
LOCATION:Old Orchard Jr High School\, 9310 Kenton Ave\, Skokie\, IL 60076\,
  USA
URL;VALUE=URI:https://www.sd735.org/calendar/8884730/mccracken-girls-varsit
 y-soccer-at-old-orchard
DTSTART:20260424T210000Z
DTEND:20260424T220000Z
END:VEVENT
END:VCALENDAR
