BEGIN:VCALENDAR
VERSION:2.0
PRODID:SchoolNow
CALSCALE:GREGORIAN
BEGIN:VEVENT
UID:7753e584-165d-11f1-b59d-0a58a9feac02
DTSTAMP:20260419T163511Z
SUMMARY:McCracken Boys Varsity Volleyball at Old Orchard
LOCATION:Old Orchard Jr High School\, 9310 Kenton Ave\, Skokie\, IL 60076\,
  USA
URL;VALUE=URI:https://www.sd735.org/calendar/8884728/mccracken-boys-varsity
 -volleyball-at-old-orchard
DTSTART:20260407T210000Z
DTEND:20260407T220000Z
END:VEVENT
END:VCALENDAR
