BEGIN:VCALENDAR
VERSION:2.0
PRODID:SchoolNow
CALSCALE:GREGORIAN
BEGIN:VEVENT
UID:7753e106-165d-11f1-85b9-0a58a9feac02
DTSTAMP:20260419T163511Z
SUMMARY:McCracken Boys Varsity Volleyball vs. Culver
LOCATION:Oliver McCracken Middle School\, 8000 E Prairie Rd\, Skokie\, IL 6
 0076\, USA
URL;VALUE=URI:https://www.sd735.org/calendar/8884727/mccracken-boys-varsity
 -volleyball-vs-culver
DTSTART:20260323T204500Z
DTEND:20260323T214500Z
END:VEVENT
END:VCALENDAR
