BEGIN:VCALENDAR
VERSION:2.0
PRODID:SchoolNow
CALSCALE:GREGORIAN
BEGIN:VEVENT
UID:76eee300-165d-11f1-9ef7-0a58a9feac02
DTSTAMP:20260419T163511Z
SUMMARY:McCracken Girls Varsity Soccer vs. Lincoln
LOCATION:Oliver McCracken Middle School\, 8000 E Prairie Rd\, Skokie\, IL 6
 0076\, USA
URL;VALUE=URI:https://www.sd735.org/calendar/8884726/mccracken-girls-varsit
 y-soccer-vs-lincoln
DTSTART:20260430T211500Z
DTEND:20260430T221500Z
END:VEVENT
END:VCALENDAR
