BEGIN:VCALENDAR
VERSION:2.0
PRODID:SchoolNow
CALSCALE:GREGORIAN
BEGIN:VEVENT
UID:76eee21a-165d-11f1-8db0-0a58a9feac02
DTSTAMP:20260419T163511Z
SUMMARY:McCracken Boys JV Volleyball at Old Orchard
LOCATION:Old Orchard Jr High School\, 9310 Kenton Ave\, Skokie\, IL 60076\,
  USA
URL;VALUE=URI:https://www.sd735.org/calendar/8884725/mccracken-boys-jv-voll
 eyball-at-old-orchard
DTSTART:20260407T220000Z
DTEND:20260407T230000Z
END:VEVENT
END:VCALENDAR
