BEGIN:VCALENDAR
VERSION:2.0
PRODID:SchoolNow
CALSCALE:GREGORIAN
BEGIN:VEVENT
UID:76eee06c-165d-11f1-aa46-0a58a9feac02
DTSTAMP:20260419T163511Z
SUMMARY:McCracken Boys JV Volleyball at Lincoln
LOCATION:Lincoln Junior High School\, 7839 Lincoln Ave\, Skokie\, IL 60077\
 , USA
URL;VALUE=URI:https://www.sd735.org/calendar/8884724/mccracken-boys-jv-voll
 eyball-at-lincoln
DTSTART:20260409T221500Z
DTEND:20260409T231500Z
END:VEVENT
END:VCALENDAR
