BEGIN:VCALENDAR
VERSION:2.0
PRODID:SchoolNow
CALSCALE:GREGORIAN
BEGIN:VEVENT
UID:76eede00-165d-11f1-a5cb-0a58a9feac02
DTSTAMP:20260419T163511Z
SUMMARY:McCracken Boys 6th Grade Volleyball at Old Orchard vs. Culver\, Eas
 t Prairie\, Old Orchard
LOCATION:Old Orchard Jr High School\, 9310 Kenton Ave\, Skokie\, IL 60076\,
  USA
URL;VALUE=URI:https://www.sd735.org/calendar/8884722/mccracken-boys-6th-gra
 de-volleyball-at-old-orchard-vs-culver-east-prairie-old-orchard
DTSTART:20260410T211500Z
DTEND:20260410T221500Z
END:VEVENT
END:VCALENDAR
