BEGIN:VCALENDAR
VERSION:2.0
PRODID:SchoolNow
CALSCALE:GREGORIAN
BEGIN:VEVENT
UID:76eedd06-165d-11f1-888a-0a58a9feac02
DTSTAMP:20260419T163511Z
SUMMARY:McCracken Girls Varsity Soccer at East Prairie
LOCATION:East Prairie School\, 7616 E Prairie Rd\, Skokie\, IL 60076\, USA
URL;VALUE=URI:https://www.sd735.org/calendar/8884721/mccracken-girls-varsit
 y-soccer-at-east-prairie
DTSTART:20260422T210000Z
DTEND:20260422T220000Z
END:VEVENT
END:VCALENDAR
