BEGIN:VCALENDAR
VERSION:2.0
PRODID:SchoolNow
CALSCALE:GREGORIAN
BEGIN:VEVENT
UID:76eedc02-165d-11f1-9b93-0a58a9feac02
DTSTAMP:20260419T163511Z
SUMMARY:McCracken Boys Varsity Volleyball vs. East Prairie
LOCATION:Oliver McCracken Middle School\, 8000 E Prairie Rd\, Skokie\, IL 6
 0076\, USA
URL;VALUE=URI:https://www.sd735.org/calendar/8884720/mccracken-boys-varsity
 -volleyball-vs-east-prairie
DTSTART:20260415T211500Z
DTEND:20260415T221500Z
END:VEVENT
END:VCALENDAR
