BEGIN:VCALENDAR
VERSION:2.0
PRODID:SchoolNow
CALSCALE:GREGORIAN
BEGIN:VEVENT
UID:76eedaea-165d-11f1-8180-0a58a9feac02
DTSTAMP:20260419T163511Z
SUMMARY:McCracken Boys JV Volleyball vs. Old Orchard
LOCATION:Oliver McCracken Middle School\, 8000 E Prairie Rd\, Skokie\, IL 6
 0076\, USA
URL;VALUE=URI:https://www.sd735.org/calendar/8884719/mccracken-boys-jv-voll
 eyball-vs-old-orchard
DTSTART:20260506T210000Z
DTEND:20260506T220000Z
END:VEVENT
END:VCALENDAR
