BEGIN:VCALENDAR
VERSION:2.0
PRODID:SchoolNow
CALSCALE:GREGORIAN
BEGIN:VEVENT
UID:76eed7a2-165d-11f1-932c-0a58a9feac02
DTSTAMP:20260419T163511Z
SUMMARY:McCracken Girls Varsity Soccer at Golf
LOCATION:Golf Elementary School District 67\, Niles Township\, IL\, USA
URL;VALUE=URI:https://www.sd735.org/calendar/8884717/mccracken-girls-varsit
 y-soccer-at-golf
DTSTART:20260409T210000Z
DTEND:20260409T220000Z
END:VEVENT
END:VCALENDAR
