BEGIN:VCALENDAR
VERSION:2.0
PRODID:SchoolNow
CALSCALE:GREGORIAN
BEGIN:VEVENT
UID:76eed694-165d-11f1-952e-0a58a9feac02
DTSTAMP:20260419T163511Z
SUMMARY:McCracken Boys JV Volleyball vs. Park View
LOCATION:Oliver McCracken Middle School\, 8000 E Prairie Rd\, Skokie\, IL 6
 0076\, USA
URL;VALUE=URI:https://www.sd735.org/calendar/8884716/mccracken-boys-jv-voll
 eyball-vs-park-view
DTSTART:20260326T220000Z
DTEND:20260326T230000Z
END:VEVENT
END:VCALENDAR
