BEGIN:VCALENDAR
VERSION:2.0
PRODID:SchoolNow
CALSCALE:GREGORIAN
BEGIN:VEVENT
UID:76eed590-165d-11f1-a9f9-0a58a9feac02
DTSTAMP:20260419T224011Z
SUMMARY:McCracken Boys Varsity Volleyball at Lincoln
LOCATION:Lincoln Junior High School\, 7839 Lincoln Ave\, Skokie\, IL 60077\
 , USA
URL;VALUE=URI:https://www.sd735.org/calendar/8884715/mccracken-boys-varsity
 -volleyball-at-lincoln
DTSTART:20260409T211500Z
DTEND:20260409T221500Z
END:VEVENT
END:VCALENDAR
