BEGIN:VCALENDAR
VERSION:2.0
PRODID:SchoolNow
CALSCALE:GREGORIAN
BEGIN:VEVENT
UID:76eed450-165d-11f1-863c-0a58a9feac02
DTSTAMP:20260419T163511Z
SUMMARY:McCracken Girls Varsity Soccer vs. Lincoln Hall
LOCATION:Oliver McCracken Middle School\, 8000 E Prairie Rd\, Skokie\, IL 6
 0076\, USA
URL;VALUE=URI:https://www.sd735.org/calendar/8884714/mccracken-girls-varsit
 y-soccer-vs-lincoln-hall
DTSTART:20260417T210000Z
DTEND:20260417T220000Z
END:VEVENT
END:VCALENDAR
