BEGIN:VCALENDAR
VERSION:2.0
PRODID:SchoolNow
CALSCALE:GREGORIAN
BEGIN:VEVENT
UID:76eed2f2-165d-11f1-b7de-0a58a9feac02
DTSTAMP:20260419T163511Z
SUMMARY:McCracken Boys JV Volleyball at Park View
LOCATION:Park View Elementary School\, 6200 Lake St\, Morton Grove\, IL 600
 53\, USA
URL;VALUE=URI:https://www.sd735.org/calendar/8884713/mccracken-boys-jv-voll
 eyball-at-park-view
DTSTART:20260504T210000Z
DTEND:20260504T220000Z
END:VEVENT
END:VCALENDAR
