BEGIN:VCALENDAR
VERSION:2.0
PRODID:SchoolNow
CALSCALE:GREGORIAN
BEGIN:VEVENT
UID:76eece06-165d-11f1-991e-0a58a9feac02
DTSTAMP:20260419T163511Z
SUMMARY:McCracken Boys 6th Grade Volleyball at Lincoln vs. Culver\, Park Vi
 ew\, Lincoln
LOCATION:Lincoln Junior High School\, 7839 Lincoln Ave\, Skokie\, IL 60077\
 , USA
URL;VALUE=URI:https://www.sd735.org/calendar/8884712/mccracken-boys-6th-gra
 de-volleyball-at-lincoln-vs-culver-park-view-lincoln
DTSTART:20260423T211500Z
DTEND:20260423T221500Z
END:VEVENT
END:VCALENDAR
