BEGIN:VCALENDAR
VERSION:2.0
PRODID:SchoolNow
CALSCALE:GREGORIAN
BEGIN:VEVENT
UID:76eeccee-165d-11f1-8dbd-0a58a9feac02
DTSTAMP:20260419T163511Z
SUMMARY:McCracken Boys 6th Grade Volleyball at Culver vs. Lincoln Hall\, Ol
 d Orchard\, Culver
LOCATION:Clarence E Culver School\, 6901 W Oakton St\, Niles\, IL 60714\, U
 SA
URL;VALUE=URI:https://www.sd735.org/calendar/8884711/mccracken-boys-6th-gra
 de-volleyball-at-culver-vs-lincoln-hall-old-orchard-culver
DTSTART:20260417T211500Z
DTEND:20260417T221500Z
END:VEVENT
END:VCALENDAR
