BEGIN:VCALENDAR
VERSION:2.0
PRODID:SchoolNow
CALSCALE:GREGORIAN
BEGIN:VEVENT
UID:76eeca3c-165d-11f1-86f7-0a58a9feac02
DTSTAMP:20260419T163511Z
SUMMARY:McCracken Boys Volleyball Tournament * 3 Matches
LOCATION:Niles West High School\, 5701 Oakton St\, Skokie\, IL 60077\, USA
URL;VALUE=URI:https://www.sd735.org/calendar/8884710/mccracken-boys-volleyb
 all-tournament-3-matches
DTSTART:20260508T224500Z
DTEND:20260509T004500Z
END:VEVENT
END:VCALENDAR
