BEGIN:VCALENDAR
VERSION:2.0
PRODID:SchoolNow
CALSCALE:GREGORIAN
BEGIN:VEVENT
UID:76eec7da-165d-11f1-9239-0a58a9feac02
DTSTAMP:20260419T163511Z
SUMMARY:McCracken Boys Varsity Volleyball vs. Lincoln Hall
LOCATION:Oliver McCracken Middle School\, 8000 E Prairie Rd\, Skokie\, IL 6
 0076\, USA
URL;VALUE=URI:https://www.sd735.org/calendar/8884709/mccracken-boys-varsity
 -volleyball-vs-lincoln-hall
DTSTART:20260420T220000Z
DTEND:20260420T230000Z
END:VEVENT
END:VCALENDAR
