BEGIN:VCALENDAR
VERSION:2.0
PRODID:SchoolNow
CALSCALE:GREGORIAN
BEGIN:VEVENT
UID:76ee8928-165d-11f1-874f-0a58a9feac02
DTSTAMP:20260419T163511Z
SUMMARY:McCracken Boys Varsity Volleyball at Fairview
LOCATION:Fairview South Elementary School\, 7040 Laramie Ave\, Skokie\, IL 
 60077\, USA
URL;VALUE=URI:https://www.sd735.org/calendar/8884708/mccracken-boys-varsity
 -volleyball-at-fairview
DTSTART:20260428T220000Z
DTEND:20260428T230000Z
END:VEVENT
END:VCALENDAR
