BEGIN:VCALENDAR
VERSION:2.0
PRODID:SchoolNow
CALSCALE:GREGORIAN
BEGIN:VEVENT
UID:2a264ac8-1256-11f1-bce4-0a58a9feac02
DTSTAMP:20260419T163511Z
SUMMARY:Little 9 Varsity Basketball Play-in Game vs. Culver
LOCATION:Oliver McCracken Middle School\, 8000 E Prairie Rd\, Skokie\, IL 6
 0076\, USA
URL;VALUE=URI:https://www.sd735.org/calendar/8870556/little-9-varsity-baske
 tball-play-in-game-vs-culver
DTSTART:20260302T220000Z
DTEND:20260302T230000Z
END:VEVENT
END:VCALENDAR
