BEGIN:VCALENDAR
VERSION:2.0
PRODID:SchoolNow
CALSCALE:GREGORIAN
BEGIN:VEVENT
UID:caf1e3a6-0e85-11f1-9bcd-0a58a9feac02
DTSTAMP:20260419T163511Z
SUMMARY:TASTE of 73.5
LOCATION:Oliver McCracken Middle School\, 8000 E Prairie Rd\, Skokie\, IL 6
 0076\, USA
URL;VALUE=URI:https://www.sd735.org/calendar/8862297/taste-of-73-5
DTSTART:20260426T190000Z
DTEND:20260426T203000Z
END:VEVENT
END:VCALENDAR
