BEGIN:VCALENDAR
VERSION:2.0
PRODID:SchoolNow
CALSCALE:GREGORIAN
BEGIN:VEVENT
UID:27dd37d8-0db3-11f1-8424-0e590f8c5e85
DTSTAMP:20260419T163512Z
SUMMARY:Student Dental Exams at Middleton
LOCATION:John Middleton Elementary School\, 8300 St Louis Ave\, Skokie\, IL
  60076\, USA
URL;VALUE=URI:https://www.sd735.org/calendar/8860629/student-dental-exams-a
 t-middleton
DTSTART;VALUE=DATE:20260327
DTEND;VALUE=DATE:20260328
END:VEVENT
END:VCALENDAR
