BEGIN:VCALENDAR
VERSION:2.0
PRODID:SchoolNow
CALSCALE:GREGORIAN
BEGIN:VEVENT
UID:0cf6984a-0da6-11f1-9958-0a58a9feac02
DTSTAMP:20260419T163511Z
SUMMARY:Board of Education Closed Session
URL;VALUE=URI:https://www.sd735.org/calendar/8860623/board-of-education-clo
 sed-session
DTSTART:20260224T233000Z
DTEND:20260225T003000Z
END:VEVENT
END:VCALENDAR
