BEGIN:VCALENDAR
VERSION:2.0
PRODID:SchoolNow
CALSCALE:GREGORIAN
BEGIN:VEVENT
UID:78f90b2c-0da1-11f1-8427-0a58a9feac02
DTSTAMP:20260419T163511Z
SUMMARY:Meyer Family PJ Dance Party
LOCATION:Elizabeth Meyer School\, 8100 Tripp Ave\, Skokie\, IL 60076\, USA
URL;VALUE=URI:https://www.sd735.org/calendar/8860616/meyer-family-pj-dance-
 party
DTSTART:20260306T000000Z
DTEND:20260306T010000Z
END:VEVENT
END:VCALENDAR
