BEGIN:VCALENDAR
VERSION:2.0
PRODID:SchoolNow
CALSCALE:GREGORIAN
BEGIN:VEVENT
UID:9f43420c-0c34-11f1-a07b-0eaf3bed0b45
DTSTAMP:20260419T163511Z
SUMMARY:Middleton 1st-2nd Grade Running Club Mini 5K
LOCATION:Oliver McCracken Middle School\, 8000 E Prairie Rd\, Skokie\, IL 6
 0076\, USA
URL;VALUE=URI:https://www.sd735.org/calendar/8857997/middleton-1st-2nd-grad
 e-running-club-mini-5k
DTSTART:20260517T180000Z
DTEND:20260517T200000Z
END:VEVENT
END:VCALENDAR
