BEGIN:VCALENDAR
VERSION:2.0
PRODID:SchoolNow
CALSCALE:GREGORIAN
BEGIN:VEVENT
UID:e3cd5b42-08f1-11f1-95f7-0e93d9c963d3
DTSTAMP:20260419T163512Z
SUMMARY:Middleton 1st-3rd Grade Movie Night
LOCATION:Middleton Elementary School
URL;VALUE=URI:https://www.sd735.org/calendar/8855012/middleton-1st-3rd-grad
 e-movie-night
DTSTART:20260221T001500Z
DTEND:20260221T020000Z
END:VEVENT
END:VCALENDAR
