BEGIN:VCALENDAR
VERSION:2.0
PRODID:SchoolNow
CALSCALE:GREGORIAN
BEGIN:VEVENT
UID:9b20b5c4-05f9-11f1-bc4a-0a58a9feac02
DTSTAMP:20260419T163511Z
SUMMARY:McCracken Spelling Bee
LOCATION:Oliver McCracken Middle School\, 8000 E Prairie Rd\, Skokie\, IL 6
 0076\, USA
URL;VALUE=URI:https://www.sd735.org/calendar/8851817/mccracken-spelling-bee
DTSTART:20260212T140000Z
DTEND:20260212T150000Z
END:VEVENT
END:VCALENDAR
