BEGIN:VCALENDAR
VERSION:2.0
PRODID:SchoolNow
CALSCALE:GREGORIAN
BEGIN:VEVENT
UID:f506ec9c-01d6-11f1-8611-020cd130090d
DTSTAMP:20260419T163511Z
SUMMARY:Annual Bingo Night
LOCATION:Oliver McCracken Middle School\, 8000 E Prairie Rd\, Skokie\, IL 6
 0076\, USA
URL;VALUE=URI:https://www.sd735.org/calendar/8849298/annual-bingo-night
DTSTART:20260324T231500Z
DTEND:20260325T004500Z
END:VEVENT
END:VCALENDAR
