BEGIN:VCALENDAR
VERSION:2.0
PRODID:SchoolNow
CALSCALE:GREGORIAN
BEGIN:VEVENT
UID:0d2ecb98-fbae-11f0-8f63-0a58a9feac02
DTSTAMP:20260419T163511Z
SUMMARY:AROUND TOWN - Growing Up in Public: Milestones of Growing Up in the
  Digital Age
LOCATION:Lincoln Hall Middle School\, 6855 N Crawford Ave\, Lincolnwood\, I
 L 60712\, USA
URL;VALUE=URI:https://www.sd735.org/calendar/8845180/around-town-growing-up
 -in-public-milestones-of-growing-up-in-the-digital-age
DTSTART:20260130T010000Z
DTEND:20260130T030000Z
ATTACH;FILENAME=Dr. Devorah Heitner PDF Full Final.pdf;FMTTYPE=application/
 pdf:https://drive.google.com/open?id=1kcaM-wBV4zmL285LRalt6Qw8IHmjhaXC
END:VEVENT
END:VCALENDAR
