BEGIN:VCALENDAR
VERSION:2.0
PRODID:SchoolNow
CALSCALE:GREGORIAN
BEGIN:VEVENT
UID:e1293e60-fb9f-11f0-b8ed-0e4ed2e3c399
DTSTAMP:20260419T163511Z
SUMMARY:McCracken Boys JV Basketball Tournament - Round 1
LOCATION:Oliver McCracken Middle School\, 8000 E Prairie Rd\, Skokie\, IL 6
 0076\, USA
URL;VALUE=URI:https://www.sd735.org/calendar/8845072/mccracken-boys-jv-bask
 etball-tournament-round-1
DTSTART:20260303T221500Z
DTEND:20260304T004500Z
END:VEVENT
END:VCALENDAR
