BEGIN:VCALENDAR
VERSION:2.0
PRODID:SchoolNow
CALSCALE:GREGORIAN
BEGIN:VEVENT
UID:2ca0f744-fac8-11f0-a8f6-0a58a9feac02
DTSTAMP:20260419T163511Z
SUMMARY:Registration Opens for all NEW Students
URL;VALUE=URI:https://www.sd735.org/calendar/8840649/registration-opens-for
 -all-new-students
DTSTART;VALUE=DATE:20260401
DTEND;VALUE=DATE:20260402
END:VEVENT
END:VCALENDAR
