BEGIN:VCALENDAR
VERSION:2.0
PRODID:SchoolNow
CALSCALE:GREGORIAN
BEGIN:VEVENT
UID:bef14bb0-f7b9-11f0-ad29-0a58a9feac02
DTSTAMP:20260419T163511Z
SUMMARY:e-LEARNING DAY (all schools closed due to extreme cold)
URL;VALUE=URI:https://www.sd735.org/calendar/8839351/e-learning-day-all-sch
 ools-closed-due-to-extreme-cold
DTSTART;VALUE=DATE:20260123
DTEND;VALUE=DATE:20260124
END:VEVENT
END:VCALENDAR
