BEGIN:VCALENDAR
VERSION:2.0
PRODID:SchoolNow
CALSCALE:GREGORIAN
BEGIN:VEVENT
UID:ca59ace0-eb2a-11f0-91f7-0a58a9feac02
DTSTAMP:20260419T163511Z
SUMMARY:Middleton 4th & 5th Grade Red Carpet Party
LOCATION:John Middleton Elementary School\, 8300 St Louis Ave\, Skokie\, IL
  60076\, USA
URL;VALUE=URI:https://www.sd735.org/calendar/8829929/middleton-4th-5th-grad
 e-red-carpet-party
DTSTART:20260131T003000Z
DTEND:20260131T020000Z
END:VEVENT
END:VCALENDAR
