BEGIN:VCALENDAR
VERSION:2.0
PRODID:SchoolNow
CALSCALE:GREGORIAN
BEGIN:VEVENT
UID:3a18a1f0-d49f-11f0-8331-0a58a9feac02
DTSTAMP:20260419T163511Z
SUMMARY:Middleton Fitness Night
LOCATION:John Middleton Elementary School\, 8300 St Louis Ave\, Skokie\, IL
  60076\, USA
URL;VALUE=URI:https://www.sd735.org/calendar/8820317/middleton-fitness-nigh
 t
DTSTART:20260422T230000Z
DTEND:20260423T003000Z
END:VEVENT
END:VCALENDAR
