BEGIN:VCALENDAR
VERSION:2.0
PRODID:SchoolNow
CALSCALE:GREGORIAN
BEGIN:VEVENT
UID:941c0416-be75-11f0-8242-0a58a9feac02
DTSTAMP:20260419T163511Z
SUMMARY:McCracken Boys 6th Grade Basketball at Culver
LOCATION:Clarence E Culver School\, 6901 W Oakton St\, Niles\, IL 60714\, U
 SA
URL;VALUE=URI:https://www.sd735.org/calendar/8787909/mccracken-boys-6th-gra
 de-basketball-at-culver
DTSTART:20260211T230000Z
DTEND:20260212T000000Z
END:VEVENT
END:VCALENDAR
