BEGIN:VCALENDAR
VERSION:2.0
PRODID:SchoolNow
CALSCALE:GREGORIAN
BEGIN:VEVENT
UID:941c022c-be75-11f0-87d2-0a58a9feac02
DTSTAMP:20260419T163511Z
SUMMARY:McCracken Boys 6th Grade Basketball vs. East Prairie
LOCATION:Oliver McCracken Middle School\, 8000 E Prairie Rd\, Skokie\, IL 6
 0076\, USA
URL;VALUE=URI:https://www.sd735.org/calendar/8787908/mccracken-boys-6th-gra
 de-basketball-vs-east-prairie
DTSTART:20260226T231500Z
DTEND:20260227T001500Z
END:VEVENT
END:VCALENDAR
