BEGIN:VCALENDAR
VERSION:2.0
PRODID:SchoolNow
CALSCALE:GREGORIAN
BEGIN:VEVENT
UID:941bfcbe-be75-11f0-a75f-0a58a9feac02
DTSTAMP:20260419T163511Z
SUMMARY:McCracken Boys Varsity Basketball at Lincoln
LOCATION:Lincoln Junior High School\, 7839 Lincoln Ave\, Skokie\, IL 60077\
 , USA
URL;VALUE=URI:https://www.sd735.org/calendar/8787905/mccracken-boys-varsity
 -basketball-at-lincoln
DTSTART:20260122T221500Z
DTEND:20260122T231500Z
END:VEVENT
END:VCALENDAR
