BEGIN:VCALENDAR
VERSION:2.0
PRODID:SchoolNow
CALSCALE:GREGORIAN
BEGIN:VEVENT
UID:941bf8cc-be75-11f0-95c2-0a58a9feac02
DTSTAMP:20260419T163512Z
SUMMARY:McCracken Boys JV Basketball vs. Park View
LOCATION:Oliver McCracken Middle School\, 8000 E Prairie Rd\, Skokie\, IL 6
 0076\, USA
URL;VALUE=URI:https://www.sd735.org/calendar/8787904/mccracken-boys-jv-bask
 etball-vs-park-view
DTSTART:20260120T220000Z
DTEND:20260120T230000Z
END:VEVENT
END:VCALENDAR
