BEGIN:VCALENDAR
VERSION:2.0
PRODID:SchoolNow
CALSCALE:GREGORIAN
BEGIN:VEVENT
UID:940ac37c-be75-11f0-b302-0a58a9feac02
DTSTAMP:20260419T163511Z
SUMMARY:McCracken Boys JV Basketball at Park View
LOCATION:Park View Elementary School\, 6200 Lake St\, Morton Grove\, IL 600
 53\, USA
URL;VALUE=URI:https://www.sd735.org/calendar/8787903/mccracken-boys-jv-bask
 etball-at-park-view
DTSTART:20260217T220000Z
DTEND:20260217T230000Z
END:VEVENT
END:VCALENDAR
