BEGIN:VCALENDAR
VERSION:2.0
PRODID:SchoolNow
CALSCALE:GREGORIAN
BEGIN:VEVENT
UID:940abf76-be75-11f0-8230-0a58a9feac02
DTSTAMP:20260419T163511Z
SUMMARY:McCracken Boys Varsity Basketball vs. Lincoln Hall
LOCATION:Lincoln Hall Middle School\, 6855 N Crawford Ave\, Lincolnwood\, I
 L 60712\, USA
URL;VALUE=URI:https://www.sd735.org/calendar/8787902/mccracken-boys-varsity
 -basketball-vs-lincoln-hall
DTSTART:20260128T220000Z
DTEND:20260128T230000Z
END:VEVENT
END:VCALENDAR
