BEGIN:VCALENDAR
VERSION:2.0
PRODID:SchoolNow
CALSCALE:GREGORIAN
BEGIN:VEVENT
UID:940a7f52-be75-11f0-af69-0a58a9feac02
DTSTAMP:20260419T163511Z
SUMMARY:McCracken Boys JV Basketball vs. Old Orchard
LOCATION:Old Orchard Jr High School\, 9310 Kenton Ave\, Skokie\, IL 60076\,
  USA
URL;VALUE=URI:https://www.sd735.org/calendar/8787899/mccracken-boys-jv-bask
 etball-vs-old-orchard
DTSTART:20260205T221500Z
DTEND:20260205T231500Z
END:VEVENT
END:VCALENDAR
