BEGIN:VCALENDAR
VERSION:2.0
PRODID:SchoolNow
CALSCALE:GREGORIAN
BEGIN:VEVENT
UID:940a7c5a-be75-11f0-9cd1-0a58a9feac02
DTSTAMP:20260419T163512Z
SUMMARY:McCracken Boys Varsity Basketball at Culver
LOCATION:Clarence E Culver School\, 6901 W Oakton St\, Niles\, IL 60714\, U
 SA
URL;VALUE=URI:https://www.sd735.org/calendar/8787897/mccracken-boys-varsity
 -basketball-at-culver
DTSTART:20260219T220000Z
DTEND:20260219T230000Z
END:VEVENT
END:VCALENDAR
