BEGIN:VCALENDAR
VERSION:2.0
PRODID:SchoolNow
CALSCALE:GREGORIAN
BEGIN:VEVENT
UID:940a6d8c-be75-11f0-a0af-0a58a9feac02
DTSTAMP:20260419T163512Z
SUMMARY:McCracken Boys 6th Grade Basketball at Lincoln Hall
LOCATION:Lincoln Hall Middle School\, 6855 N Crawford Ave\, Lincolnwood\, I
 L 60712\, USA
URL;VALUE=URI:https://www.sd735.org/calendar/8787896/mccracken-boys-6th-gra
 de-basketball-at-lincoln-hall
DTSTART:20260129T230000Z
DTEND:20260130T000000Z
END:VEVENT
END:VCALENDAR
