BEGIN:VCALENDAR
VERSION:2.0
PRODID:SchoolNow
CALSCALE:GREGORIAN
BEGIN:VEVENT
UID:940a5126-be75-11f0-8010-0a58a9feac02
DTSTAMP:20260419T163511Z
SUMMARY:McCracken Boys 6th Grade Basketball at Park View
LOCATION:Park View Elementary School\, 6200 Lake St\, Morton Grove\, IL 600
 53\, USA
URL;VALUE=URI:https://www.sd735.org/calendar/8787894/mccracken-boys-6th-gra
 de-basketball-at-park-view
DTSTART:20260217T230000Z
DTEND:20260218T000000Z
END:VEVENT
END:VCALENDAR
